BEGIN:VCALENDAR
VERSION:2.0
PRODID:-//wp-events-plugin.com//7.2.3.1//EN
TZID:America/Los_Angeles
X-WR-TIMEZONE:America/Los_Angeles
BEGIN:VEVENT
UID:982@lcvalleyartcenter.org
DTSTART;TZID=America/Los_Angeles:20211116T130000
DTEND;TZID=America/Los_Angeles:20211116T150000
DTSTAMP:20211009T191704Z
URL:https://lcvalleyartcenter.org/events/colored-pencil-class-2-2021-11-16
 /
SUMMARY:Colored Pencil Class
DESCRIPTION:\n\nOffered through\nValley Art Center\n\nInstructor - Robin Ha
 rvey\n\nColored Pencil Class\n\nTuesdays\n6 weeks\n1:00pm – 3:00pm\nOct.
  19\, 2021 To November 23\, 2021\n\n$110\nClass Supply List\n\n 	Colored P
 encils - Prismacolor or Faber Castell polychromes (as many as you can affo
 rd)\n 	Good Pencil Sharpener\n 	Kneaded Eraser\n 	Mono Zero Elastomer Eras
 er\n 	Colorless Blender Pencil\n 	H-Polymer Eraser\n 	Prismacolor Plastic 
 Eraser\n 	Studio Basics Dual tip paddle/point applicators (Q-tips)\n 	90% 
 rubbing alcohol\n 	Zest It: Pencil Blend (need to order as soon as possibl
 e from Jacksons Art Supply)\n 	Sandpaper\n 	Paper stubs\n 	Prismacolor Ble
 nder\n 	Some items included in : Prismacolor Pencil Accessory Set (at Dick
  Blick is $11.81 or locally at Staples. Includes Colorless Blender Pencil\
 , Colorless Blender Marker\, Pencil Sharpener\,\nKneaded Eraser\, Pencil L
 engthener\, Ebony Graphite Pencil and Plastic Eraser)\n 	Strathmore Gray S
 cale paper (15 sheets 9x12 80 lb.)\n\nA $50 deposit will hold your spot.\n
 Classes must be paid by the day before class or by agreement with the inst
 ructor.\n\n\n\n\n\n\nClass Payment Options\n\n\n\nPay in Full $110.00 USD\
 nBalance $60.00 USD\nDeposit $50.00 USD\n\n\n\n\n\n\n\n\n
ATTACH;FMTTYPE=image/jpeg:https://lcvalleyartcenter.org/wp-content/uploads
 /2021/07/Colored-Pencil-Class-11_21.png
CATEGORIES:Adult Class
LOCATION:Valley Art Center\, 842 6th St\, Clarkston\, WA\, 99403\, United S
 tates
X-APPLE-STRUCTURED-LOCATION;VALUE=URI;X-ADDRESS=842 6th St\, Clarkston\, WA
 \, 99403\, United States;X-APPLE-RADIUS=100;X-TITLE=Valley Art Center:geo:
 0,0
END:VEVENT
BEGIN:VTIMEZONE
TZID:America/Los_Angeles
X-LIC-LOCATION:America/Los_Angeles
BEGIN:STANDARD
DTSTART:20211107T010000
TZOFFSETFROM:-0700
TZOFFSETTO:-0800
TZNAME:PST
END:STANDARD
END:VTIMEZONE
END:VCALENDAR