BEGIN:VCALENDAR
VERSION:2.0
PRODID:-//wp-events-plugin.com//7.2.3.1//EN
TZID:America/Los_Angeles
X-WR-TIMEZONE:America/Los_Angeles
BEGIN:VEVENT
UID:1165@lcvalleyartcenter.org
DTSTART;TZID=America/Los_Angeles:20220909T090000
DTEND;TZID=America/Los_Angeles:20220909T160000
DTSTAMP:20220312T000438Z
URL:https://lcvalleyartcenter.org/events/colored-pencil-pan-pastels-worksh
 op-with-craig-ellertson-2022-09-09/
SUMMARY:Colored Pencil/Pan Pastels Workshop with Craig Ellertson
DESCRIPTION:Workshop\n\nColored Pencil/Pan Pastels\nOffered through Valley 
 Art Center\nInstructor\nCraig Ellertson\nSeptember 9th - 10th\n9am – 4pm
 \nColored Pencil/Pan Pastels\n$245\nCraig has a supply list which can be o
 btained at the front desk.\nThere are also some optional items listed.\nPL
 EASE ASK THE DOCENT FOR LIST or ON WEBSITE.\nThe instructor will supply th
 e following packet\nfor purchase on the day of class. Cost $25\n\n 	Color 
 Reference Photo (Rights purchased from “Reference Photos for Wildlife Ar
 tists”).  Attendees are only permitted to use the reference photo and s
 ubsequent artwork for their own personal one time usage.\n 	Black and whit
 e lineart used for image transfer to drawing surface.\n 	Graphite sheet fo
 r image transfer.\n 	Tracing paper cover sheet to protect working surface 
 while in transit.\n 	Uart 800 grade premium sanded pastel paper mounted on
  acid free foam core.\n 	Sanding pad.\n 	Mounting putty for lifting color.
 \n\nClass Supplies List\n\nThe Colored Pencil / Pan Pastel list includes:\
 n\nPan Pastels\, Faber-Castell Polychromos Pencils\, and Prismacolor Penci
 ls.\nSome items on the supply list are indicated as optional if you are tr
 ying to cut costs. But assumptions are made that participants may already 
 have some\, if not most\, of the supplies needed as this is a course for i
 ntermediate to advanced colored pencil/pan pastel artists.\nEach participa
 nt should supply as many items on the supply list as possible to ensure co
 mpletion of the art project if it is not fully completed during the worksh
 op.\n\nRequired materials:\n\n 	Pan Pastels Colorless Blender\n 	Hand or E
 lectric Pencil Sharpener\n 	Battery Operated Eraser and Refills\n 	Paper T
 owels\n 	Graphite pencil or pen for transferring image onto board\n 	Pan P
 astel Soft Tools: 4 Knife set w/8 covers\n\nAll fees for workshops and cla
 sses must be paid in full a month ahead of first day of workshop.\n\n\n\n\
 n\n\nClass Payment Options\n\n\n\nPay in Full $245.00 USD\nDeposit $50.00 
 USD\nPay Balance $195.00 USD\n\n\n\n\n\n\n\n\n
ATTACH;FMTTYPE=image/jpeg:https://lcvalleyartcenter.org/wp-content/uploads
 /2022/03/CraigEllertson.png
CATEGORIES:Workshop
LOCATION:Valley Art Center\, 842 6th St\, Clarkston\, WA\, 99403\, United S
 tates
X-APPLE-STRUCTURED-LOCATION;VALUE=URI;X-ADDRESS=842 6th St\, Clarkston\, WA
 \, 99403\, United States;X-APPLE-RADIUS=100;X-TITLE=Valley Art Center:geo:
 0,0
END:VEVENT
BEGIN:VTIMEZONE
TZID:America/Los_Angeles
X-LIC-LOCATION:America/Los_Angeles
BEGIN:DAYLIGHT
DTSTART:20220313T030000
TZOFFSETFROM:-0800
TZOFFSETTO:-0700
TZNAME:PDT
END:DAYLIGHT
END:VTIMEZONE
END:VCALENDAR