BEGIN:VCALENDAR
VERSION:2.0
PRODID:-//wp-events-plugin.com//7.2.3.1//EN
TZID:America/Los_Angeles
X-WR-TIMEZONE:America/Los_Angeles
BEGIN:VEVENT
UID:516@lcvalleyartcenter.org
DTSTART;TZID=America/Los_Angeles:20190309T100000
DTEND;TZID=America/Los_Angeles:20190309T120000
DTSTAMP:20190107T041605Z
URL:https://lcvalleyartcenter.org/events/dirty-pour-2/
SUMMARY:Dirty Pour
DESCRIPTION:Acrylic Dirty Pour. $35\n\nInstructor Alyssa Hopkins\n\nWear pa
 int clothing. All supplies are provided.\n\nNo art experience required. Co
 me and expect to have fun\, relax\, and take home your very own masterpiec
 e.\n\nPlease pay in advance to hold your spot. Classes will start on time.
ATTACH;FMTTYPE=image/jpeg:https://lcvalleyartcenter.org/wp-content/uploads
 /2018/12/Acrylic-Dirty-Pour.jpeg
CATEGORIES:Adult Class
LOCATION:Valley Art Center\, 842 6th St\, Clarkston\, WA\, 99403\, United S
 tates
X-APPLE-STRUCTURED-LOCATION;VALUE=URI;X-ADDRESS=842 6th St\, Clarkston\, WA
 \, 99403\, United States;X-APPLE-RADIUS=100;X-TITLE=Valley Art Center:geo:
 0,0
END:VEVENT
BEGIN:VTIMEZONE
TZID:America/Los_Angeles
X-LIC-LOCATION:America/Los_Angeles
BEGIN:STANDARD
DTSTART:20181104T010000
TZOFFSETFROM:-0700
TZOFFSETTO:-0800
TZNAME:PST
END:STANDARD
END:VTIMEZONE
END:VCALENDAR