BEGIN:VCALENDAR
VERSION:2.0
PRODID:-//wp-events-plugin.com//7.2.3.1//EN
TZID:America/Los_Angeles
X-WR-TIMEZONE:America/Los_Angeles
BEGIN:VEVENT
UID:517@lcvalleyartcenter.org
DTSTART;TZID=America/Los_Angeles:20190411T183000
DTEND;TZID=America/Los_Angeles:20190411T203000
DTSTAMP:20190107T041636Z
URL:https://lcvalleyartcenter.org/events/dirty-pour-3/
SUMMARY:Dirty Pour
DESCRIPTION:\n\nAcrylic Dirty Pour. $35\n\nInstructor Alyssa Hopkins\n\nWea
 r paint clothing. All supplies are provided.\n\nNo art experience required
 . Come and expect to have fun\, relax\, and take home your very own master
 piece.\n\nPlease pay in advance to hold your spot. Classes will start on t
 ime.
ATTACH;FMTTYPE=image/jpeg:https://lcvalleyartcenter.org/wp-content/uploads
 /2018/12/Acrylic-Dirty-Pour.jpeg
CATEGORIES:Adult Class
LOCATION:Valley Art Center\, 842 6th St\, Clarkston\, WA\, 99403\, United S
 tates
X-APPLE-STRUCTURED-LOCATION;VALUE=URI;X-ADDRESS=842 6th St\, Clarkston\, WA
 \, 99403\, United States;X-APPLE-RADIUS=100;X-TITLE=Valley Art Center:geo:
 0,0
END:VEVENT
BEGIN:VTIMEZONE
TZID:America/Los_Angeles
X-LIC-LOCATION:America/Los_Angeles
BEGIN:DAYLIGHT
DTSTART:20190310T030000
TZOFFSETFROM:-0800
TZOFFSETTO:-0700
TZNAME:PDT
END:DAYLIGHT
END:VTIMEZONE
END:VCALENDAR