BEGIN:VCALENDAR
VERSION:2.0
PRODID:-//wp-events-plugin.com//7.2.3.1//EN
TZID:America/Los_Angeles
X-WR-TIMEZONE:America/Los_Angeles
BEGIN:VEVENT
UID:290@lcvalleyartcenter.org
DTSTART;TZID=America/Los_Angeles:20180208T183000
DTEND;TZID=America/Los_Angeles:20180208T203000
DTSTAMP:20171020T211253Z
URL:https://lcvalleyartcenter.org/events/down-and-dirty-with-acrylics-acry
 lic-dirty-pour-3/
SUMMARY:Down and Dirty with Acrylics --- Acrylic dirty pour
DESCRIPTION:It’s the end of the week. Come and unwind and prepare for you
 r Friday. The evening will be both relaxing and exciting. Come see how. No
  painting experience required!\n\nWear paint clothing or apron. All painti
 ng supplies provided.\n\nClasses held the second Thursday of each month st
 arting with November\, 2017. All this fun and only $35 per person per clas
 s. Please register by Tuesday evening prior to class. OK OK. Drop-ins will
  not be turned away 8-).\n\nInstructor Alyssa Hopkins
CATEGORIES:Adult Class
LOCATION:Valley Art Center\, 842 6th St\, Clarkston\, WA\, 99403\, United S
 tates
X-APPLE-STRUCTURED-LOCATION;VALUE=URI;X-ADDRESS=842 6th St\, Clarkston\, WA
 \, 99403\, United States;X-APPLE-RADIUS=100;X-TITLE=Valley Art Center:geo:
 0,0
END:VEVENT
BEGIN:VTIMEZONE
TZID:America/Los_Angeles
X-LIC-LOCATION:America/Los_Angeles
BEGIN:STANDARD
DTSTART:20171105T010000
TZOFFSETFROM:-0700
TZOFFSETTO:-0800
TZNAME:PST
END:STANDARD
END:VTIMEZONE
END:VCALENDAR