BEGIN:VCALENDAR
VERSION:2.0
PRODID:-//wp-events-plugin.com//7.2.3.1//EN
TZID:America/Los_Angeles
X-WR-TIMEZONE:America/Los_Angeles
BEGIN:VEVENT
UID:524@lcvalleyartcenter.org
DTSTART;TZID=America/Los_Angeles:20190201T160000
DTEND;TZID=America/Los_Angeles:20190201T190000
DTSTAMP:20190130T211220Z
URL:https://lcvalleyartcenter.org/events/february-2019-reception/
SUMMARY:February 2019 Reception
DESCRIPTION:"Heart for Art" at the Valley Art Center. Over 300 original 5x7
  pieces of unframed art for $40 ea. Julie Hartwig from the Dahmen Barn wil
 l be on hand with frames for purchase. 30 artists participated in this eve
 nt\, you won't want to miss it.\nDon't wait\, all Art is Cash-n-Carry!\n\n
 Opening Reception Friday\, February 1st\, 4pm – 7pm at the Valley Art Ce
 nter\, 842 Sixth St.\, Clarkston. The show is free to the public. Refreshm
 ents and light appetizers will be served.\n\nShow will continue through Fe
 bruary 23rd\nGallery hours: Tuesday–Saturday 10 a.m. – 4 p.m.
ATTACH;FMTTYPE=image/jpeg:https://lcvalleyartcenter.org/wp-content/uploads
 /2019/01/HeartForArt2019.jpg
CATEGORIES:Reception
LOCATION:Valley Art Center\, 842 6th St\, Clarkston\, WA\, 99403\, United S
 tates
X-APPLE-STRUCTURED-LOCATION;VALUE=URI;X-ADDRESS=842 6th St\, Clarkston\, WA
 \, 99403\, United States;X-APPLE-RADIUS=100;X-TITLE=Valley Art Center:geo:
 0,0
END:VEVENT
BEGIN:VTIMEZONE
TZID:America/Los_Angeles
X-LIC-LOCATION:America/Los_Angeles
BEGIN:STANDARD
DTSTART:20181104T010000
TZOFFSETFROM:-0700
TZOFFSETTO:-0800
TZNAME:PST
END:STANDARD
END:VTIMEZONE
END:VCALENDAR