BEGIN:VCALENDAR
VERSION:2.0
PRODID:-//wp-events-plugin.com//7.2.3.1//EN
TZID:America/Los_Angeles
X-WR-TIMEZONE:America/Los_Angeles
BEGIN:VEVENT
UID:1894@lcvalleyartcenter.org
DTSTART;TZID=America/Los_Angeles:20260329T090000
DTEND;TZID=America/Los_Angeles:20260329T160000
DTSTAMP:20260126T182536Z
URL:https://lcvalleyartcenter.org/events/folk-bunny-workshop-2026-03-29/
SUMMARY:Folk Bunny Workshop
DESCRIPTION:\nOffered at\nValley Art Center\nINSTRUCTOR\nMary Lou Wayne\nMa
 rch 28 &amp\; 29\nSaturday &amp\; Sunday\n9am – 4pm\nClay Bunny Sculptur
 e\nInstructor $100\nMaterial Fee $20\nWe will make a 15” Bunny\nIn this 
 workshop we will hand sculpt the bunnies head\, hands\, and feet. Build hi
 s armature and dress him in his finery.\n\nInstructor will supply\n\n 	Cla
 y\n 	Armature material\n 	Some tools\n\nItems you need to bring for class:
 \n\n 	Glue Gun\n 	Scissors\n 	Fabrics for bunny clothing\n 	Decoration ite
 ms: buttons\, etc.\n 	Any sculpting tools you may have\n\nClasses must be 
 paid in advance.\nAll fees for supplies are to be paid on first day of att
 endance to the instructor.\n\n\n  \n  \n  \n    \n      \n        \n      
   Folk Bunny Workshop\n      \n    \n    \n      \n        \n          \n 
            Pay in Full $100.00 USD\n          \n          \n            Do
 wn Payment $50.00 USD\n          \n          \n            Balance $50.00 
 USD\n          \n        \n      \n    \n  \n  \n  \n
ATTACH;FMTTYPE=image/jpeg:https://lcvalleyartcenter.org/wp-content/uploads
 /2026/01/image_2026-01-21_154555357.png
CATEGORIES:Workshop
LOCATION:Valley Art Center\, 842 6th St\, Clarkston\, WA\, 99403\, United S
 tates
X-APPLE-STRUCTURED-LOCATION;VALUE=URI;X-ADDRESS=842 6th St\, Clarkston\, WA
 \, 99403\, United States;X-APPLE-RADIUS=100;X-TITLE=Valley Art Center:geo:
 0,0
END:VEVENT
BEGIN:VTIMEZONE
TZID:America/Los_Angeles
X-LIC-LOCATION:America/Los_Angeles
BEGIN:DAYLIGHT
DTSTART:20260308T030000
TZOFFSETFROM:-0800
TZOFFSETTO:-0700
TZNAME:PDT
END:DAYLIGHT
END:VTIMEZONE
END:VCALENDAR