BEGIN:VCALENDAR
VERSION:2.0
PRODID:-//wp-events-plugin.com//7.2.3.1//EN
TZID:America/Los_Angeles
X-WR-TIMEZONE:America/Los_Angeles
BEGIN:VEVENT
UID:1188@lcvalleyartcenter.org
DTSTART;TZID=America/Los_Angeles:20230203T160000
DTEND;TZID=America/Los_Angeles:20230203T190000
DTSTAMP:20221128T191234Z
URL:https://lcvalleyartcenter.org/events/heart-for-art-reception-2/
SUMMARY:Heart for Art Reception
DESCRIPTION:
CATEGORIES:Reception
END:VEVENT
BEGIN:VTIMEZONE
TZID:America/Los_Angeles
X-LIC-LOCATION:America/Los_Angeles
BEGIN:STANDARD
DTSTART:20221106T010000
TZOFFSETFROM:-0700
TZOFFSETTO:-0800
TZNAME:PST
END:STANDARD
END:VTIMEZONE
END:VCALENDAR