BEGIN:VCALENDAR
VERSION:2.0
PRODID:-//wp-events-plugin.com//7.2.3.1//EN
TZID:America/Los_Angeles
X-WR-TIMEZONE:America/Los_Angeles
BEGIN:VEVENT
UID:479@lcvalleyartcenter.org
DTSTART;TZID=America/Los_Angeles:20190830T093000
DTEND;TZID=America/Los_Angeles:20190830T163000
DTSTAMP:20190724T150425Z
URL:https://lcvalleyartcenter.org/events/introduction-to-colored-pencils-2
 019-08-30/
SUMMARY:Introduction to Colored Pencils
DESCRIPTION:Introduction to\nColored Pencils\nInstructor\nP. Craig Ellertso
 n\nAugust 30 – 31 2019\nFriday &amp\; Saturday\n9:30am – 4:30pm\nLOCAT
 ION\nValley Art Center\n842 6th Street\, Clarkston WA 99403\n509-758-8331\
 nIntroduction to Colored Pencils\n$219.00*\n+ $20 materials fee\n2 Day Wor
 kshop\nAugust 30 – 31 2019\nP Craig Ellertson will display his beautiful
  colored pencil paintings during the month of August at the Valley Art Cen
 ter culminating with a 2 day workshop where he will share some of his secr
 ets to a successful painting. He will be your guide as you experiment on b
 oth black and white papers using basic to more advanced blending methods. 
 You will create a photo realistic image of a marble plus plumeria blossoms
  on black paper. Except for the pencils and some extras the materials will
  be supplied by the instructor for a $20 fee paid the first day of class. 
 \n\nClass Supply List\n\n$20 fee includes\n\n 	Sand paper Block\n 	Small b
 ottle of 91% rubbing alcohol\n 	Small bottle of Zest-it solvent\n 	Q-tips 
 for blending\n 	Eraser Pencil\n 	Eraser Shield\n 	Haik Brush\n 	Colored pe
 ncil Accessory set\n 	Mounting putty for lifting color off\n 	Pouch for ac
 cessories\n 	Transfer paper\n 	Colored paper\n\nAttendee Supplied Accessor
 ies\n\n 	Battery/Electric Pencil Sharpener (Optional)\n 	Battery Operated 
 Eraser (Optional but very handy accessory to have)\n 	HP or Mechanical Pen
 cil\n\nAttendee Supplied Pencils\n\nAll colored pencils are Prisma Premier
  Colored Pencils with the exception of one Primsacolor Verithin Pencil.\n\
 nGlass Marble:\n\n 	Peach Beige\n 	Caribbean Sea\n 	Cobalt Blue\n 	China B
 lue\n 	Indigo Blue\n 	Sky Blue Light\n 	Blue Violet Lake\n 	Chocolate\n 	B
 urnt Ochre\n 	True Green\n\nZebra:\n\n 	Eggshell\n 	Warm Gray 30%\n 	Frenc
 h Gray 30%\n 	Chestnut\n 	Prismacolor Verithin White\n\nColors common to b
 oth projects:\n\n 	Black\n 	White\n\nPlease call to reserve your place tod
 ay!\n\n*If you would like to enroll in a workshop\, but cost is preventing
  you from signing up\, a scholarship of half the workshop fee may be avail
 able (one scholarship per workshop). We invite you to apply using this for
 m.
ATTACH;FMTTYPE=image/jpeg:https://lcvalleyartcenter.org/wp-content/uploads
 /2018/09/Introduction-to-Colored-Pencils.jpg
CATEGORIES:Workshop
LOCATION:Valley Art Center\, 842 6th St\, Clarkston\, WA\, 99403\, United S
 tates
X-APPLE-STRUCTURED-LOCATION;VALUE=URI;X-ADDRESS=842 6th St\, Clarkston\, WA
 \, 99403\, United States;X-APPLE-RADIUS=100;X-TITLE=Valley Art Center:geo:
 0,0
END:VEVENT
BEGIN:VTIMEZONE
TZID:America/Los_Angeles
X-LIC-LOCATION:America/Los_Angeles
BEGIN:DAYLIGHT
DTSTART:20190310T030000
TZOFFSETFROM:-0800
TZOFFSETTO:-0700
TZNAME:PDT
END:DAYLIGHT
END:VTIMEZONE
END:VCALENDAR