BEGIN:VCALENDAR
VERSION:2.0
PRODID:-//wp-events-plugin.com//7.2.3.1//EN
TZID:America/Los_Angeles
X-WR-TIMEZONE:America/Los_Angeles
BEGIN:VEVENT
UID:323@lcvalleyartcenter.org
DTSTART;TZID=America/Los_Angeles:20180226T170000
DTEND;TZID=America/Los_Angeles:20180226T190000
DTSTAMP:20171205T012012Z
URL:https://lcvalleyartcenter.org/events/oil-painting-2018-02-26/
SUMMARY:Oil Painting
DESCRIPTION:6 Sessions: January 22\, 29\, February 5\, 12\, 19\, 26\n\nCos
 t $100\n\nInstructor Donna Baker
CATEGORIES:Adult Class
LOCATION:Valley Art Center\, 842 6th St\, Clarkston\, WA\, 99403\, United S
 tates
X-APPLE-STRUCTURED-LOCATION;VALUE=URI;X-ADDRESS=842 6th St\, Clarkston\, WA
 \, 99403\, United States;X-APPLE-RADIUS=100;X-TITLE=Valley Art Center:geo:
 0,0
END:VEVENT
BEGIN:VTIMEZONE
TZID:America/Los_Angeles
X-LIC-LOCATION:America/Los_Angeles
BEGIN:STANDARD
DTSTART:20171105T010000
TZOFFSETFROM:-0700
TZOFFSETTO:-0800
TZNAME:PST
END:STANDARD
END:VTIMEZONE
END:VCALENDAR