BEGIN:VCALENDAR
VERSION:2.0
PRODID:-//wp-events-plugin.com//7.2.3.1//EN
TZID:America/Los_Angeles
X-WR-TIMEZONE:America/Los_Angeles
BEGIN:VEVENT
UID:523@lcvalleyartcenter.org
DTSTART;TZID=America/Los_Angeles:20190209T100000
DTEND;TZID=America/Los_Angeles:20190209T120000
DTSTAMP:20190107T042026Z
URL:https://lcvalleyartcenter.org/events/silk-scarf-painting/
SUMMARY:Silk Scarf Painting
DESCRIPTION:\n\nSilk Scarf Painting $55\n\nInstructor Alyssa Hopkins\n\nWea
 r paint clothing. All supplies are provided but bring an iron if you have 
 one.\n\nThis will make a nice Valentine gift - or keep it for yourself!\n\
 nNo art experience required. Come and expect to have fun\, relax\, and tak
 e home your very own masterpiece.\n\nPlease pay in advance to hold your sp
 ot. Classes will start on time.
ATTACH;FMTTYPE=image/jpeg:https://lcvalleyartcenter.org/wp-content/uploads
 /2018/12/Silk-Scarves.jpeg
CATEGORIES:Adult Class
LOCATION:Valley Art Center\, 842 6th St\, Clarkston\, WA\, 99403\, United S
 tates
X-APPLE-STRUCTURED-LOCATION;VALUE=URI;X-ADDRESS=842 6th St\, Clarkston\, WA
 \, 99403\, United States;X-APPLE-RADIUS=100;X-TITLE=Valley Art Center:geo:
 0,0
END:VEVENT
BEGIN:VTIMEZONE
TZID:America/Los_Angeles
X-LIC-LOCATION:America/Los_Angeles
BEGIN:STANDARD
DTSTART:20181104T010000
TZOFFSETFROM:-0700
TZOFFSETTO:-0800
TZNAME:PST
END:STANDARD
END:VTIMEZONE
END:VCALENDAR