BEGIN:VCALENDAR
VERSION:2.0
PRODID:-//wp-events-plugin.com//7.2.3.1//EN
TZID:America/Los_Angeles
X-WR-TIMEZONE:America/Los_Angeles
BEGIN:VEVENT
UID:1839@lcvalleyartcenter.org
DTSTART;TZID=America/Los_Angeles:20251001T090000
DTEND;TZID=America/Los_Angeles:20251001T160000
DTSTAMP:20250914T054852Z
URL:https://lcvalleyartcenter.org/events/t-kurtz-pastels-workshop-2025-10-
 01/
SUMMARY:T Kurtz Pastels Workshop
DESCRIPTION:Pastel on Suede &amp\; Prepping Art Board for Pastel\n\n\nOffer
 ed through\nValley Art Center\n\nInstructor: T. Kurtz\n\nOctober 1st and 2
 nd\nWednesday and Thursday\n9am to 4pm\n\n$275\n\nT. Kurtz has been workin
 g in Pastel since 2012. She is a member of Women Artists of the West and h
 as won multiple awards.\n\nClass supply List\nQuoted from Dick Blick:\n\n 
 	Pre Val Spray gun $9.95\n 	Winsor Newton White spirits 2.5 oz x 2 $6.10 e
 a\n 	Windsor Newton Damar Varnish 2.5 oz $8.60 ea\n 	Ampersand Hardboard 8
  x 10 $5.51\n 	Golden Pumice Fine Gel Medium 8 oz $14.90\n\nSpray gun\, wh
 ite spirits\, and Damar can be shared with up to 4 people.\nThe mix is 2 w
 hite spirits to 1 Damar Varnish.\nThe Golden Pumice can do about 5 8 x 10
 ’s easily.\n\n\n\n\n\n\n\nClass Payment Options\n\n\n\nPay in Full $275.
 00 USD\n\nBalance $225.00 USD\n\n\n\nDeposit $50.00 USD\n\n\n\n\n\n\n\n
ATTACH;FMTTYPE=image/jpeg:https://lcvalleyartcenter.org/wp-content/uploads
 /2025/09/image_2025-09-13_224825580.png
CATEGORIES:Workshop
LOCATION:Valley Art Center\, 842 6th St\, Clarkston\, WA\, 99403\, United S
 tates
X-APPLE-STRUCTURED-LOCATION;VALUE=URI;X-ADDRESS=842 6th St\, Clarkston\, WA
 \, 99403\, United States;X-APPLE-RADIUS=100;X-TITLE=Valley Art Center:geo:
 0,0
END:VEVENT
BEGIN:VTIMEZONE
TZID:America/Los_Angeles
X-LIC-LOCATION:America/Los_Angeles
BEGIN:DAYLIGHT
DTSTART:20250309T030000
TZOFFSETFROM:-0800
TZOFFSETTO:-0700
TZNAME:PDT
END:DAYLIGHT
END:VTIMEZONE
END:VCALENDAR